BEGIN:VCALENDAR
VERSION:2.0
PRODID:-//Date iCal//NONSGML kigkonsult.se iCalcreator 2.20.2//
METHOD:PUBLISH
X-WR-CALNAME;VALUE=TEXT:UAW Kobol
BEGIN:VTIMEZONE
TZID:America/Detroit
BEGIN:STANDARD
DTSTART:20171105T020000
TZOFFSETFROM:-0400
TZOFFSETTO:-0500
RDATE:20181104T020000,20191103T020000
TZNAME:EST
END:STANDARD
BEGIN:DAYLIGHT
DTSTART:20170312T020000
TZOFFSETFROM:-0500
TZOFFSETTO:-0400
RDATE:20180311T020000,20190310T020000,20200308T020000
TZNAME:EDT
END:DAYLIGHT
END:VTIMEZONE
BEGIN:VEVENT
UID:calendar.42408.field_oa_date.0@region1.uaw.org
DTSTAMP:20210512T065349Z
CREATED:20190626T184716Z
DESCRIPTION:Come join us for our monthly meeting. We guarantee you'll enjoy
  the time you spend here! 
DTSTART;VALUE=DATE:20190718
DTEND;VALUE=DATE:20190719
LAST-MODIFIED:20190626T184716Z
LOCATION:4300 Michigan Avenue\, Detroit MI 48210
SUMMARY:Local 22 Retirees' Chapter Meeting
URL;TYPE=URI:https://region1.uaw.org/uaw-local-22/events/local-22-retirees-
 chapter-meeting
END:VEVENT
BEGIN:VEVENT
UID:calendar.41487.field_oa_date.0@region1.uaw.org
DTSTAMP:20210512T065349Z
CREATED:20190509T184313Z
DTSTART;VALUE=DATE:20190609
DTEND;VALUE=DATE:20190610
LAST-MODIFIED:20190509T184317Z
SUMMARY:6th Annual Region 1 Blessing of the Bikes
URL;TYPE=URI:https://region1.uaw.org/uaw-local-22/events/6th-annual-region-
 1-blessing-bikes
END:VEVENT
BEGIN:VEVENT
UID:calendar.41238.field_oa_date.0@region1.uaw.org
DTSTAMP:20210512T065349Z
CREATED:20190423T194704Z
DESCRIPTION:The Michigan Labor History Society (MLHS) has scheduled its ann
 ual Labor Day Mobilization luncheon.  The cost is $40 per person\, which i
 ncludes a one-year MLHS membership.\n\nMake checks payable to Michigan Lab
 or History Society.  Mail checks and a list of members who will attend to:
   UAW Region 1\, Attention: Rashon Byrd\, Labor Day Luncheon\, 27800 Georg
 e Merrelli Drive\, Warren\, MI  48092.\n\nIf you have any questions\, plea
 se contact Rashon Byrd at (586) 427-9200\n\nDownload Flyer HERE
DTSTART;TZID=America/Detroit:20190820T113000
DTEND;TZID=America/Detroit:20190820T140000
LAST-MODIFIED:20190423T194709Z
LOCATION:UAW Region 1A9650 S. Telegraph Road\, Taylor MI 48180
SUMMARY:2019 Labor Day Mobilization Luncheon
URL;TYPE=URI:https://region1.uaw.org/uaw-local-22/events/2019-labor-day-mob
 ilization-luncheon
END:VEVENT
BEGIN:VEVENT
UID:calendar.39957.field_oa_date.0@region1.uaw.org
DTSTAMP:20210512T065349Z
CREATED:20190307T152249Z
DESCRIPTION:In an effort to better understand and address the unique challe
 nges facing women in leadership in Region 1\, I am inviting women in elect
 ed positions from all units at your local union facilities to the above le
 adership roundtable discussion.\n\nThis invitation is to include only wome
 n who are elected officers\, bargainers\, and grievance handlers to these 
 positions.  All women holding these positions are strongly encouraged to a
 ttend.\n\nAny lost time will be the local union’s responsibility.  Please 
 complete the attached registration form and fax or mail by April 12\, 2019
 .\n\nThank you for extending this special invitation to the women in leade
 rship at your local union.\n\n If you have questions\, please contact Susi
 e Reed or Diane Virelli at (586) 427-9200.\n\nDownload Registration Form H
 ere\n\n\n\n \n\n 
DTSTART;TZID=America/Detroit:20190416T100000
DTEND;TZID=America/Detroit:20190416T130000
LAST-MODIFIED:20190307T152251Z
LOCATION:UAW Region 127800 George Merrelli DriveWarren\, MI 48092
SUMMARY:Region 1 - Women in Leadership Roundtable
URL;TYPE=URI:https://region1.uaw.org/uaw-local-22/events/region-1-women-lea
 dership-roundtable
END:VEVENT
BEGIN:VEVENT
UID:calendar.39937.field_oa_date.0@region1.uaw.org
DTSTAMP:20210512T065349Z
CREATED:20190307T151706Z
DESCRIPTION:Delegates must complete the registration form and return it no 
 later than Thursday\, March 14\, 2019.\n\nThe meeting begins at 10 a.m.
DTSTART;VALUE=DATE:20190316
DTEND;VALUE=DATE:20190317
LAST-MODIFIED:20190307T151709Z
LOCATION:UAW Region 127800 George Merrelli DriveWarren\, MI 48092
SUMMARY:Chaplaincy Council Meeting
URL;TYPE=URI:https://region1.uaw.org/uaw-local-22/events/chaplaincy-council
 -meeting
END:VEVENT
BEGIN:VEVENT
UID:calendar.36037.field_oa_date.0@region1.uaw.org
DTSTAMP:20210512T065349Z
CREATED:20180904T150139Z
DESCRIPTION:UAW Region 1\, 27800 George Merrelli Drive\, Warren\, MI  48092
 \n\nRSVP Cards were sent you in the mail.  Please return them BEFORE Tuesd
 ay\, September 11\, 2018
DTSTART;TZID=America/Detroit:20180918T100000
DTEND;TZID=America/Detroit:20180918T130000
LAST-MODIFIED:20180904T150932Z
SUMMARY:Oakland County Retiree Luncheon
URL;TYPE=URI:https://region1.uaw.org/uaw-local-22/events/oakland-county-ret
 iree-luncheon
END:VEVENT
BEGIN:VEVENT
UID:calendar.33874.field_oa_date.0@region1.uaw.org
DTSTAMP:20210512T065349Z
CREATED:20180216T133822Z
DESCRIPTION:Synergy Prototype Stamiping in Clinton Township will be voting 
 on Thursday\, February 22\, 2018 to join the UAW.  Lets show up from 2-5 P
 M to show them that they are not alone\, and encourage them to stand stron
 g for justice in the workplace.  Wear red to show solidarity.  Questions m
 ay be directed to Diane Virelli at 586-427-9200.
DTSTART;TZID=America/Detroit:20180222T140000
DTEND;TZID=America/Detroit:20180222T170000
LAST-MODIFIED:20180216T133843Z
LOCATION:22778 Macomb Industrial Drive\n\nClinton Township\, MI  48036
SUMMARY:Rally to support Synergy Workers organizing to join the UAW
URL;TYPE=URI:https://region1.uaw.org/uaw-local-22/events/rally-support-syne
 rgy-workers-organizing-join-uaw
END:VEVENT
BEGIN:VEVENT
UID:calendar.15696.field_oa_date.0@region1.uaw.org
DTSTAMP:20210512T065349Z
CREATED:20170601T195232Z
DTSTART;VALUE=DATE:20170611
DTEND;VALUE=DATE:20170612
LAST-MODIFIED:20170602T143905Z
LOCATION:Region 1 map Click HERE\n\nRegion 1A map Click HERE
SUMMARY:2017 Motor City Harleyfest Labor of Love
URL;TYPE=URI:https://region1.uaw.org/uaw-local-22/events/2017-motor-city-ha
 rleyfest-labor-love
END:VEVENT
END:VCALENDAR
